BEGIN:VCALENDAR
VERSION:2.0
PRODID:-//Trax Farms - ECPv6.15.20//NONSGML v1.0//EN
CALSCALE:GREGORIAN
METHOD:PUBLISH
X-WR-CALNAME:Trax Farms
X-ORIGINAL-URL:https://traxfarms.com
X-WR-CALDESC:Events for Trax Farms
REFRESH-INTERVAL;VALUE=DURATION:PT1H
X-Robots-Tag:noindex
X-PUBLISHED-TTL:PT1H
BEGIN:VTIMEZONE
TZID:America/New_York
BEGIN:DAYLIGHT
TZOFFSETFROM:-0500
TZOFFSETTO:-0400
TZNAME:EDT
DTSTART:20180311T070000
END:DAYLIGHT
BEGIN:STANDARD
TZOFFSETFROM:-0400
TZOFFSETTO:-0500
TZNAME:EST
DTSTART:20181104T060000
END:STANDARD
BEGIN:DAYLIGHT
TZOFFSETFROM:-0500
TZOFFSETTO:-0400
TZNAME:EDT
DTSTART:20190310T070000
END:DAYLIGHT
BEGIN:STANDARD
TZOFFSETFROM:-0400
TZOFFSETTO:-0500
TZNAME:EST
DTSTART:20191103T060000
END:STANDARD
BEGIN:DAYLIGHT
TZOFFSETFROM:-0500
TZOFFSETTO:-0400
TZNAME:EDT
DTSTART:20200308T070000
END:DAYLIGHT
BEGIN:STANDARD
TZOFFSETFROM:-0400
TZOFFSETTO:-0500
TZNAME:EST
DTSTART:20201101T060000
END:STANDARD
END:VTIMEZONE
BEGIN:VEVENT
DTSTART;TZID=America/New_York:20191226T080000
DTEND;TZID=America/New_York:20191226T180000
DTSTAMP:20260424T162437
CREATED:20190808T150623Z
LAST-MODIFIED:20191224T131144Z
UID:465-1577347200-1577383200@traxfarms.com
SUMMARY:After Christmas Sale- Christmas 75% OFF
DESCRIPTION:
URL:https://traxfarms.com/event/after-christmas-sale/
CATEGORIES:Christmas,Sale
ATTACH;FMTTYPE=image/jpeg:https://traxfarms.com/wp-content/uploads/2019/08/present-2891870_1920-e1565649861626.jpg
END:VEVENT
BEGIN:VEVENT
DTSTART;VALUE=DATE:20191225
DTEND;VALUE=DATE:20191226
DTSTAMP:20260424T162437
CREATED:20190808T150412Z
LAST-MODIFIED:20191115T182700Z
UID:462-1577232000-1577318399@traxfarms.com
SUMMARY:Christmas Day-CLOSED
DESCRIPTION:
URL:https://traxfarms.com/event/christmas-day-closed/
CATEGORIES:Holiday
ATTACH;FMTTYPE=image/jpeg:https://traxfarms.com/wp-content/uploads/2019/08/the-christmas-tree-1081321_1920-e1565651067358.jpg
END:VEVENT
BEGIN:VEVENT
DTSTART;TZID=America/New_York:20191224T090000
DTEND;TZID=America/New_York:20191224T160000
DTSTAMP:20260424T162437
CREATED:20190808T150330Z
LAST-MODIFIED:20190820T013545Z
UID:459-1577178000-1577203200@traxfarms.com
SUMMARY:Christmas Eve store hours 9am-4pm
DESCRIPTION:
URL:https://traxfarms.com/event/christmas-eve-store-hours-9am-4pm/
CATEGORIES:Christmas,Store Hours
ATTACH;FMTTYPE=image/png:https://traxfarms.com/wp-content/uploads/2019/08/clock-147257_1280.png
END:VEVENT
BEGIN:VEVENT
DTSTART;TZID=America/New_York:20191207T093000
DTEND;TZID=America/New_York:20191207T140000
DTSTAMP:20260424T162437
CREATED:20190808T150056Z
LAST-MODIFIED:20191115T191014Z
UID:457-1575711000-1575727200@traxfarms.com
SUMMARY:Breakfast or Lunch with Santa
DESCRIPTION:Santa Claus is coming to Trax Farms! Every year Santa takes a break from his busy schedule on the last few weekends leading up to Christmas to visit his favorite farm. Make plans to join us at Trax Farms for holiday fun for the entire family. Visit with Santa\, bring your wish list\, make a Christmas craft\, and enjoy a nutritious breakfast or lunch along with a special Christmas treat. Additional food items for the “older kids” in your group are always available for purchase so no one has to go home hungry! Make your reservations at Customer Service or call 412.835.3246. Please have your credit card ready. Seating is limited; make reservations early for this memorable holiday activity for the family. \n– Reservations required\n– Breakfast time: 9:30am – 11:00am\n– Lunch time: 12:30pm – 2:00pm\n– Ticket Fee: $9 \nLearn More!
URL:https://traxfarms.com/event/breakfast-lunch-with-santa-3/
CATEGORIES:Christmas
ATTACH;FMTTYPE=image/jpeg:https://traxfarms.com/wp-content/uploads/2019/08/santa-claus-1628845_1920-1-e1566264893559.jpg
END:VEVENT
BEGIN:VEVENT
DTSTART;TZID=America/New_York:20191207T093000
DTEND;TZID=America/New_York:20191207T140000
DTSTAMP:20260424T162437
CREATED:20190808T150056Z
LAST-MODIFIED:20191115T191014Z
UID:457-1575711000-1575727200@traxfarms.com
SUMMARY:Breakfast or Lunch with Santa
DESCRIPTION:Santa Claus is coming to Trax Farms! Every year Santa takes a break from his busy schedule on the last few weekends leading up to Christmas to visit his favorite farm. Make plans to join us at Trax Farms for holiday fun for the entire family. Visit with Santa\, bring your wish list\, make a Christmas craft\, and enjoy a nutritious breakfast or lunch along with a special Christmas treat. Additional food items for the “older kids” in your group are always available for purchase so no one has to go home hungry! Make your reservations at Customer Service or call 412.835.3246. Please have your credit card ready. Seating is limited; make reservations early for this memorable holiday activity for the family. \n– Reservations required\n– Breakfast time: 9:30am – 11:00am\n– Lunch time: 12:30pm – 2:00pm\n– Ticket Fee: $9 \nLearn More!
URL:https://traxfarms.com/event/breakfast-lunch-with-santa-3/
CATEGORIES:Christmas
ATTACH;FMTTYPE=image/jpeg:https://traxfarms.com/wp-content/uploads/2019/08/santa-claus-1628845_1920-1-e1566264893559.jpg
END:VEVENT
BEGIN:VEVENT
DTSTART;TZID=America/New_York:20191207T093000
DTEND;TZID=America/New_York:20191207T140000
DTSTAMP:20260424T162437
CREATED:20190808T150056Z
LAST-MODIFIED:20191115T191014Z
UID:457-1575711000-1575727200@traxfarms.com
SUMMARY:Breakfast or Lunch with Santa
DESCRIPTION:Santa Claus is coming to Trax Farms! Every year Santa takes a break from his busy schedule on the last few weekends leading up to Christmas to visit his favorite farm. Make plans to join us at Trax Farms for holiday fun for the entire family. Visit with Santa\, bring your wish list\, make a Christmas craft\, and enjoy a nutritious breakfast or lunch along with a special Christmas treat. Additional food items for the “older kids” in your group are always available for purchase so no one has to go home hungry! Make your reservations at Customer Service or call 412.835.3246. Please have your credit card ready. Seating is limited; make reservations early for this memorable holiday activity for the family. \n– Reservations required\n– Breakfast time: 9:30am – 11:00am\n– Lunch time: 12:30pm – 2:00pm\n– Ticket Fee: $9 \nLearn More!
URL:https://traxfarms.com/event/breakfast-lunch-with-santa-3/
CATEGORIES:Christmas
ATTACH;FMTTYPE=image/jpeg:https://traxfarms.com/wp-content/uploads/2019/08/santa-claus-1628845_1920-1-e1566264893559.jpg
END:VEVENT
BEGIN:VEVENT
DTSTART;TZID=America/New_York:20191207T093000
DTEND;TZID=America/New_York:20191207T140000
DTSTAMP:20260424T162437
CREATED:20190808T150056Z
LAST-MODIFIED:20191115T191014Z
UID:457-1575711000-1575727200@traxfarms.com
SUMMARY:Breakfast or Lunch with Santa
DESCRIPTION:Santa Claus is coming to Trax Farms! Every year Santa takes a break from his busy schedule on the last few weekends leading up to Christmas to visit his favorite farm. Make plans to join us at Trax Farms for holiday fun for the entire family. Visit with Santa\, bring your wish list\, make a Christmas craft\, and enjoy a nutritious breakfast or lunch along with a special Christmas treat. Additional food items for the “older kids” in your group are always available for purchase so no one has to go home hungry! Make your reservations at Customer Service or call 412.835.3246. Please have your credit card ready. Seating is limited; make reservations early for this memorable holiday activity for the family. \n– Reservations required\n– Breakfast time: 9:30am – 11:00am\n– Lunch time: 12:30pm – 2:00pm\n– Ticket Fee: $9 \nLearn More!
URL:https://traxfarms.com/event/breakfast-lunch-with-santa-3/
CATEGORIES:Christmas
ATTACH;FMTTYPE=image/jpeg:https://traxfarms.com/wp-content/uploads/2019/08/santa-claus-1628845_1920-1-e1566264893559.jpg
END:VEVENT
BEGIN:VEVENT
DTSTART;TZID=America/New_York:20191207T093000
DTEND;TZID=America/New_York:20191207T140000
DTSTAMP:20260424T162437
CREATED:20190808T150056Z
LAST-MODIFIED:20191115T191014Z
UID:457-1575711000-1575727200@traxfarms.com
SUMMARY:Breakfast or Lunch with Santa
DESCRIPTION:Santa Claus is coming to Trax Farms! Every year Santa takes a break from his busy schedule on the last few weekends leading up to Christmas to visit his favorite farm. Make plans to join us at Trax Farms for holiday fun for the entire family. Visit with Santa\, bring your wish list\, make a Christmas craft\, and enjoy a nutritious breakfast or lunch along with a special Christmas treat. Additional food items for the “older kids” in your group are always available for purchase so no one has to go home hungry! Make your reservations at Customer Service or call 412.835.3246. Please have your credit card ready. Seating is limited; make reservations early for this memorable holiday activity for the family. \n– Reservations required\n– Breakfast time: 9:30am – 11:00am\n– Lunch time: 12:30pm – 2:00pm\n– Ticket Fee: $9 \nLearn More!
URL:https://traxfarms.com/event/breakfast-lunch-with-santa-3/
CATEGORIES:Christmas
ATTACH;FMTTYPE=image/jpeg:https://traxfarms.com/wp-content/uploads/2019/08/santa-claus-1628845_1920-1-e1566264893559.jpg
END:VEVENT
BEGIN:VEVENT
DTSTART;TZID=America/New_York:20191207T093000
DTEND;TZID=America/New_York:20191207T140000
DTSTAMP:20260424T162437
CREATED:20190808T150056Z
LAST-MODIFIED:20191115T191014Z
UID:457-1575711000-1575727200@traxfarms.com
SUMMARY:Breakfast or Lunch with Santa
DESCRIPTION:Santa Claus is coming to Trax Farms! Every year Santa takes a break from his busy schedule on the last few weekends leading up to Christmas to visit his favorite farm. Make plans to join us at Trax Farms for holiday fun for the entire family. Visit with Santa\, bring your wish list\, make a Christmas craft\, and enjoy a nutritious breakfast or lunch along with a special Christmas treat. Additional food items for the “older kids” in your group are always available for purchase so no one has to go home hungry! Make your reservations at Customer Service or call 412.835.3246. Please have your credit card ready. Seating is limited; make reservations early for this memorable holiday activity for the family. \n– Reservations required\n– Breakfast time: 9:30am – 11:00am\n– Lunch time: 12:30pm – 2:00pm\n– Ticket Fee: $9 \nLearn More!
URL:https://traxfarms.com/event/breakfast-lunch-with-santa-3/
CATEGORIES:Christmas
ATTACH;FMTTYPE=image/jpeg:https://traxfarms.com/wp-content/uploads/2019/08/santa-claus-1628845_1920-1-e1566264893559.jpg
END:VEVENT
BEGIN:VEVENT
DTSTART;VALUE=DATE:20191201
DTEND;VALUE=DATE:20191202
DTSTAMP:20260424T162437
CREATED:20191118T161428Z
LAST-MODIFIED:20191201T180005Z
UID:5984-1575158400-1575244799@traxfarms.com
SUMMARY:Play n' Pour Online Ticket Sales Open
DESCRIPTION:
URL:https://traxfarms.com/event/play-n-pour-online-ticket-sales-open/
ATTACH;FMTTYPE=image/jpeg:https://traxfarms.com/wp-content/uploads/2019/08/play-n-pour.jpg
END:VEVENT
BEGIN:VEVENT
DTSTART;VALUE=DATE:20191130
DTEND;VALUE=DATE:20191201
DTSTAMP:20260424T162437
CREATED:20190808T145458Z
LAST-MODIFIED:20191202T163727Z
UID:449-1575072000-1575158399@traxfarms.com
SUMMARY:Small Business Saturday
DESCRIPTION:Spend Small Business Saturday with Trax Farms! \nSip\, Sample\, Sing\, and Say Hi to Santa! \nStroll thru the market to enjoy free samples from our departments from 10:00 am – 3:00 pm! Then enjoy the Christmas carolers and Santa from 12:00 pm-3:00 pm and snap a picture at our Christmas photo booth. Check out the Antique Loft Fashion Show at 1:00 pm and then enter to win prizes! For every $10 you spend you will receive a raffle ticket to enter to win prizes!
URL:https://traxfarms.com/event/small-business-saturday/
CATEGORIES:Event
END:VEVENT
BEGIN:VEVENT
DTSTART;VALUE=DATE:20191128
DTEND;VALUE=DATE:20191129
DTSTAMP:20260424T162437
CREATED:20190808T145208Z
LAST-MODIFIED:20190812T230650Z
UID:443-1574899200-1574985599@traxfarms.com
SUMMARY:Thanksgiving - CLOSED
DESCRIPTION:
URL:https://traxfarms.com/event/thanksgiving-closed/
CATEGORIES:Holiday
ATTACH;FMTTYPE=image/jpeg:https://traxfarms.com/wp-content/uploads/2019/08/cornucopia-1789664_1920-e1565651204624.jpg
END:VEVENT
BEGIN:VEVENT
DTSTART;VALUE=DATE:20191125
DTEND;VALUE=DATE:20191126
DTSTAMP:20260424T162437
CREATED:20190808T145051Z
LAST-MODIFIED:20190820T013617Z
UID:440-1574640000-1574726399@traxfarms.com
SUMMARY:Wreath Booth Opens & Live Trees Arrive
DESCRIPTION:
URL:https://traxfarms.com/event/wreath-booth-opens-live-trees-arrive/
CATEGORIES:Christmas,Misc
ATTACH;FMTTYPE=image/jpeg:https://traxfarms.com/wp-content/uploads/2019/08/background-2926896_1920-e1565651237652.jpg
END:VEVENT
BEGIN:VEVENT
DTSTART;TZID=America/New_York:20191116T140000
DTEND;TZID=America/New_York:20191116T170000
DTSTAMP:20260424T162437
CREATED:20190820T012943Z
LAST-MODIFIED:20191115T134215Z
UID:1248-1573912800-1573923600@traxfarms.com
SUMMARY:Small Plate Holiday Wine Luncheon
DESCRIPTION:Spend the afternoon at Trax Farms enjoying delicious food paired with wonderful wine. Our Holiday Wine Luncheon is hosted by Arrowhead Wine Cellars and Trax Farms Arrowhead Wine Shop. \nTicket Price: $35 \nMust be 21+ \nCall to make your reservations at 412.835.3246 x 114 – SOLD OUT \nMenu:\nGoat Cheese Crostini\nBacon Cauliflower Soup\nPolish Hill Pierogi\nGouda Chicken\nApple Orchard Bread Pudding
URL:https://traxfarms.com/event/small-plate-holiday-wine-luncheon/
CATEGORIES:Luncheon
ATTACH;FMTTYPE=image/jpeg:https://traxfarms.com/wp-content/uploads/2019/08/wine-2891891_1920-e1566264575668.jpg
END:VEVENT
BEGIN:VEVENT
DTSTART;TZID=America/New_York:20191116T140000
DTEND;TZID=America/New_York:20191116T170000
DTSTAMP:20260424T162437
CREATED:20190820T012943Z
LAST-MODIFIED:20191115T134215Z
UID:1248-1573912800-1573923600@traxfarms.com
SUMMARY:Small Plate Holiday Wine Luncheon
DESCRIPTION:Spend the afternoon at Trax Farms enjoying delicious food paired with wonderful wine. Our Holiday Wine Luncheon is hosted by Arrowhead Wine Cellars and Trax Farms Arrowhead Wine Shop. \nTicket Price: $35 \nMust be 21+ \nCall to make your reservations at 412.835.3246 x 114 – SOLD OUT \nMenu:\nGoat Cheese Crostini\nBacon Cauliflower Soup\nPolish Hill Pierogi\nGouda Chicken\nApple Orchard Bread Pudding
URL:https://traxfarms.com/event/small-plate-holiday-wine-luncheon/
CATEGORIES:Luncheon
ATTACH;FMTTYPE=image/jpeg:https://traxfarms.com/wp-content/uploads/2019/08/wine-2891891_1920-e1566264575668.jpg
END:VEVENT
BEGIN:VEVENT
DTSTART;TZID=America/New_York:20191109T100000
DTEND;TZID=America/New_York:20191109T160000
DTSTAMP:20260424T162437
CREATED:20190808T144512Z
LAST-MODIFIED:20190930T145218Z
UID:434-1573293600-1573315200@traxfarms.com
SUMMARY:All From Scratch Craft Show
DESCRIPTION:All From Scratch will feature 40+ local artists: all items are handmade and will include jewelry\, purses\, gifts for baby\, glassworks\, dolls\, children’s accessories and bags\, pottery and ceramics\, eco chic and upcycled goods\, wine accessories\, soaps and body lotions\, wood works\, calligraphy art\, girls’ skirt and dresses\, candles\, original art\, knit goods\, photography\, dog treats\, flower arrangements\, wood arts\, greeting cards\, women’s accessories\, home decor\, scrapbooks\, and wellness and beauty products. \nAll November vendor spots are full
URL:https://traxfarms.com/event/all-from-scratch-craft-show/
CATEGORIES:Event
ATTACH;FMTTYPE=image/jpeg:https://traxfarms.com/wp-content/uploads/2019/08/knitting-1614283_1920-e1565651295395.jpg
END:VEVENT
BEGIN:VEVENT
DTSTART;TZID=America/New_York:20191109T100000
DTEND;TZID=America/New_York:20191109T160000
DTSTAMP:20260424T162437
CREATED:20190808T144512Z
LAST-MODIFIED:20190930T145218Z
UID:434-1573293600-1573315200@traxfarms.com
SUMMARY:All From Scratch Craft Show
DESCRIPTION:All From Scratch will feature 40+ local artists: all items are handmade and will include jewelry\, purses\, gifts for baby\, glassworks\, dolls\, children’s accessories and bags\, pottery and ceramics\, eco chic and upcycled goods\, wine accessories\, soaps and body lotions\, wood works\, calligraphy art\, girls’ skirt and dresses\, candles\, original art\, knit goods\, photography\, dog treats\, flower arrangements\, wood arts\, greeting cards\, women’s accessories\, home decor\, scrapbooks\, and wellness and beauty products. \nAll November vendor spots are full
URL:https://traxfarms.com/event/all-from-scratch-craft-show/
CATEGORIES:Event
ATTACH;FMTTYPE=image/jpeg:https://traxfarms.com/wp-content/uploads/2019/08/knitting-1614283_1920-e1565651295395.jpg
END:VEVENT
BEGIN:VEVENT
DTSTART;TZID=America/New_York:20191102T100000
DTEND;TZID=America/New_York:20191102T140000
DTSTAMP:20260424T162437
CREATED:20190820T012414Z
LAST-MODIFIED:20191018T133155Z
UID:1242-1572688800-1572703200@traxfarms.com
SUMMARY:PGH Moms Crafts & Vendors Craft Show
DESCRIPTION:Shop 24 Pittsburgh crafters and vendors at the 5th Annual Pittsburgh Moms Holiday Market. Find handmade wreaths\, wood signs & other creations\, bath & body\, home decor\, baby & kid products\, books\, essential oils\, sweet treats and so much more! See Santa & Mrs. Claus from 11am-1pm. Every purchase earns a raffle ticket to our grand prize.
URL:https://traxfarms.com/event/pgh-moms-crafts-vendors-craft-show/
CATEGORIES:Craft Show
ATTACH;FMTTYPE=image/jpeg:https://traxfarms.com/wp-content/uploads/2019/08/weaving-loom-2571179_1920-e1566264241235.jpg
END:VEVENT
BEGIN:VEVENT
DTSTART;TZID=America/New_York:20191101T080000
DTEND;TZID=America/New_York:20191101T170000
DTSTAMP:20260424T162437
CREATED:20191030T173010Z
LAST-MODIFIED:20191030T173204Z
UID:5227-1572595200-1572627600@traxfarms.com
SUMMARY:Breakfast/ Lunch with Santa Tickets Open
DESCRIPTION:
URL:https://traxfarms.com/event/breakfast-lunch-with-santa-tickets-open/
ATTACH;FMTTYPE=image/jpeg:https://traxfarms.com/wp-content/uploads/2019/08/santa-claus-1628845_1920.jpg
END:VEVENT
BEGIN:VEVENT
DTSTART;VALUE=DATE:20191031
DTEND;VALUE=DATE:20191101
DTSTAMP:20260424T162437
CREATED:20191029T165453Z
LAST-MODIFIED:20191030T173320Z
UID:5189-1572480000-1572566399@traxfarms.com
SUMMARY:Halloween - Store Closes at 4:00 pm
DESCRIPTION:Halloween \nStore Closes at 4:00 pm \n 
URL:https://traxfarms.com/event/5189/
ATTACH;FMTTYPE=image/jpeg:https://traxfarms.com/wp-content/uploads/2019/10/halloween.jpg
END:VEVENT
BEGIN:VEVENT
DTSTART;TZID=America/New_York:20190925T163000
DTEND;TZID=America/New_York:20190925T190000
DTSTAMP:20260424T162437
CREATED:20190808T123851Z
LAST-MODIFIED:20190920T110423Z
UID:418-1569429000-1569438000@traxfarms.com
SUMMARY:Wednesday Nights Hops & Hayrides
DESCRIPTION:Hops & Hayrides\n			\n			\n				\n				\n				\n				\n			\n				\n				\n				\n				\n				\n				\n				\n				\n				\n				\n				Enjoy a hayride to the top of the hill\, a corn maze\, a bonfire &amp; a bale of fun! Purchase your 6 –pack at the Craft Beer 6-Pack Shop! 6-packs are not included in ticket price. \n*OFF PREMISE ALCOHOL NOT PERMITTED. \nDate: October 2\, 9\, 16\, 23 & 30Time: 4:30PM – 7:00PM Last hayride – 6:30PMAdmission Fee:  Adults $10\, Children $8
URL:https://traxfarms.com/event/hops-hayrides-5/
CATEGORIES:Hayrides
ATTACH;FMTTYPE=image/jpeg:https://traxfarms.com/wp-content/uploads/2019/08/beers-1283566_1920-e1565650890856.jpg
END:VEVENT
BEGIN:VEVENT
DTSTART;TZID=America/New_York:20190928T100000
DTEND;TZID=America/New_York:20190928T170000
DTSTAMP:20260424T162437
CREATED:20190808T123423Z
LAST-MODIFIED:20190823T182457Z
UID:407-1569664800-1569690000@traxfarms.com
SUMMARY:Fall Festival
DESCRIPTION:Our annual Fall Festival is a tradition for many families in the South Hills and greater Pittsburgh\narea. There’s something for everyone from grandparents to grandkids. Enjoy a hayride to our\npumpkin patch to pick-your-own pumpkin or see if you can find your way through our giant corn\nmaze! \nLearn More
URL:https://traxfarms.com/event/fall-festival-5/
CATEGORIES:Festival
ATTACH;FMTTYPE=image/jpeg:https://traxfarms.com/wp-content/uploads/2019/08/pumpkins-e1565650307272.jpg
END:VEVENT
BEGIN:VEVENT
DTSTART;TZID=America/New_York:20190928T100000
DTEND;TZID=America/New_York:20190928T170000
DTSTAMP:20260424T162437
CREATED:20190808T123423Z
LAST-MODIFIED:20190823T182457Z
UID:407-1569664800-1569690000@traxfarms.com
SUMMARY:Fall Festival
DESCRIPTION:Our annual Fall Festival is a tradition for many families in the South Hills and greater Pittsburgh\narea. There’s something for everyone from grandparents to grandkids. Enjoy a hayride to our\npumpkin patch to pick-your-own pumpkin or see if you can find your way through our giant corn\nmaze! \nLearn More
URL:https://traxfarms.com/event/fall-festival-5/
CATEGORIES:Festival
ATTACH;FMTTYPE=image/jpeg:https://traxfarms.com/wp-content/uploads/2019/08/pumpkins-e1565650307272.jpg
END:VEVENT
BEGIN:VEVENT
DTSTART;TZID=America/New_York:20190927T163000
DTEND;TZID=America/New_York:20190927T190000
DTSTAMP:20260424T162437
CREATED:20190808T122530Z
LAST-MODIFIED:20190918T202934Z
UID:391-1569601800-1569610800@traxfarms.com
SUMMARY:Friday Evening Hayrides
DESCRIPTION:Enjoy a hayride to the top of the hill behind the barn\, with a beautiful view of the farm and surrounding area. At the top of the hill\, scarecrows will welcome you to our challenging corn maze and giant pumpkin patch for pick-your-own-pumpkins. Pumpkins are not included in ticket price. Hayrides leave every 30 minutes with the last hayride at 6:30PM. Tickets must be purchased at the red hut at back of the Nursery. Hayrides are weather permitting. \nDate: September 27 & October 4\, 11\, 18 & 25 \nTime 4:30PM-7:00PM Last hayride – 6:30PM \nAdmission Fee- Adults $10\, Children $8 \nLearn More!
URL:https://traxfarms.com/event/evening-hayrides/
CATEGORIES:Hayrides
ATTACH;FMTTYPE=image/jpeg:https://traxfarms.com/wp-content/uploads/2019/08/hayrides-e1565650119566.jpg
END:VEVENT
BEGIN:VEVENT
DTSTART;TZID=America/New_York:20190925T163000
DTEND;TZID=America/New_York:20190925T190000
DTSTAMP:20260424T162437
CREATED:20190808T123851Z
LAST-MODIFIED:20190920T110423Z
UID:418-1569429000-1569438000@traxfarms.com
SUMMARY:Wednesday Nights Hops & Hayrides
DESCRIPTION:Hops & Hayrides\n			\n			\n				\n				\n				\n				\n			\n				\n				\n				\n				\n				\n				\n				\n				\n				\n				\n				Enjoy a hayride to the top of the hill\, a corn maze\, a bonfire &amp; a bale of fun! Purchase your 6 –pack at the Craft Beer 6-Pack Shop! 6-packs are not included in ticket price. \n*OFF PREMISE ALCOHOL NOT PERMITTED. \nDate: October 2\, 9\, 16\, 23 & 30Time: 4:30PM – 7:00PM Last hayride – 6:30PMAdmission Fee:  Adults $10\, Children $8
URL:https://traxfarms.com/event/hops-hayrides-5/
CATEGORIES:Hayrides
ATTACH;FMTTYPE=image/jpeg:https://traxfarms.com/wp-content/uploads/2019/08/beers-1283566_1920-e1565650890856.jpg
END:VEVENT
BEGIN:VEVENT
DTSTART;TZID=America/New_York:20190928T100000
DTEND;TZID=America/New_York:20190928T170000
DTSTAMP:20260424T162437
CREATED:20190808T123423Z
LAST-MODIFIED:20190823T182457Z
UID:407-1569664800-1569690000@traxfarms.com
SUMMARY:Fall Festival
DESCRIPTION:Our annual Fall Festival is a tradition for many families in the South Hills and greater Pittsburgh\narea. There’s something for everyone from grandparents to grandkids. Enjoy a hayride to our\npumpkin patch to pick-your-own pumpkin or see if you can find your way through our giant corn\nmaze! \nLearn More
URL:https://traxfarms.com/event/fall-festival-5/
CATEGORIES:Festival
ATTACH;FMTTYPE=image/jpeg:https://traxfarms.com/wp-content/uploads/2019/08/pumpkins-e1565650307272.jpg
END:VEVENT
BEGIN:VEVENT
DTSTART;TZID=America/New_York:20190928T100000
DTEND;TZID=America/New_York:20190928T170000
DTSTAMP:20260424T162437
CREATED:20190808T123423Z
LAST-MODIFIED:20190823T182457Z
UID:407-1569664800-1569690000@traxfarms.com
SUMMARY:Fall Festival
DESCRIPTION:Our annual Fall Festival is a tradition for many families in the South Hills and greater Pittsburgh\narea. There’s something for everyone from grandparents to grandkids. Enjoy a hayride to our\npumpkin patch to pick-your-own pumpkin or see if you can find your way through our giant corn\nmaze! \nLearn More
URL:https://traxfarms.com/event/fall-festival-5/
CATEGORIES:Festival
ATTACH;FMTTYPE=image/jpeg:https://traxfarms.com/wp-content/uploads/2019/08/pumpkins-e1565650307272.jpg
END:VEVENT
BEGIN:VEVENT
DTSTART;TZID=America/New_York:20190927T163000
DTEND;TZID=America/New_York:20190927T190000
DTSTAMP:20260424T162437
CREATED:20190808T122530Z
LAST-MODIFIED:20190918T202934Z
UID:391-1569601800-1569610800@traxfarms.com
SUMMARY:Friday Evening Hayrides
DESCRIPTION:Enjoy a hayride to the top of the hill behind the barn\, with a beautiful view of the farm and surrounding area. At the top of the hill\, scarecrows will welcome you to our challenging corn maze and giant pumpkin patch for pick-your-own-pumpkins. Pumpkins are not included in ticket price. Hayrides leave every 30 minutes with the last hayride at 6:30PM. Tickets must be purchased at the red hut at back of the Nursery. Hayrides are weather permitting. \nDate: September 27 & October 4\, 11\, 18 & 25 \nTime 4:30PM-7:00PM Last hayride – 6:30PM \nAdmission Fee- Adults $10\, Children $8 \nLearn More!
URL:https://traxfarms.com/event/evening-hayrides/
CATEGORIES:Hayrides
ATTACH;FMTTYPE=image/jpeg:https://traxfarms.com/wp-content/uploads/2019/08/hayrides-e1565650119566.jpg
END:VEVENT
BEGIN:VEVENT
DTSTART;TZID=America/New_York:20190925T163000
DTEND;TZID=America/New_York:20190925T190000
DTSTAMP:20260424T162437
CREATED:20190808T123851Z
LAST-MODIFIED:20190920T110423Z
UID:418-1569429000-1569438000@traxfarms.com
SUMMARY:Wednesday Nights Hops & Hayrides
DESCRIPTION:Hops & Hayrides\n			\n			\n				\n				\n				\n				\n			\n				\n				\n				\n				\n				\n				\n				\n				\n				\n				\n				Enjoy a hayride to the top of the hill\, a corn maze\, a bonfire &amp; a bale of fun! Purchase your 6 –pack at the Craft Beer 6-Pack Shop! 6-packs are not included in ticket price. \n*OFF PREMISE ALCOHOL NOT PERMITTED. \nDate: October 2\, 9\, 16\, 23 & 30Time: 4:30PM – 7:00PM Last hayride – 6:30PMAdmission Fee:  Adults $10\, Children $8
URL:https://traxfarms.com/event/hops-hayrides-5/
CATEGORIES:Hayrides
ATTACH;FMTTYPE=image/jpeg:https://traxfarms.com/wp-content/uploads/2019/08/beers-1283566_1920-e1565650890856.jpg
END:VEVENT
BEGIN:VEVENT
DTSTART;TZID=America/New_York:20191014T130000
DTEND;TZID=America/New_York:20191014T160000
DTSTAMP:20260424T162437
CREATED:20190808T124355Z
LAST-MODIFIED:20190920T105452Z
UID:428-1571058000-1571068800@traxfarms.com
SUMMARY:Columbus Day Hayrides
DESCRIPTION:Join us on your day off from school for a fun Columbus Day family activity at the farm. Take a hayride up to the top of our hill to navigate through our corn maze and then find the perfect pumpkin for your jack o’lantern at the pumpkin patch. Tickets must be purchased at the red hut at back of the Nursery. Hayrides are weather permitting. \nDate Monday\, October 14th\nTime 1:00PM-4:00PM Last hayride- 4:00PM\nAdmission Fee- Adults $10\, Children $8
URL:https://traxfarms.com/event/columbus-day-hayrides/
CATEGORIES:Hayrides
ATTACH;FMTTYPE=image/jpeg:https://traxfarms.com/wp-content/uploads/2019/08/map-3409359_1920-e1565650932897.jpg
END:VEVENT
END:VCALENDAR