BEGIN:VCALENDAR
VERSION:2.0
PRODID:-//Trax Farms - ECPv6.15.20//NONSGML v1.0//EN
CALSCALE:GREGORIAN
METHOD:PUBLISH
X-ORIGINAL-URL:https://traxfarms.com
X-WR-CALDESC:Events for Trax Farms
REFRESH-INTERVAL;VALUE=DURATION:PT1H
X-Robots-Tag:noindex
X-PUBLISHED-TTL:PT1H
BEGIN:VTIMEZONE
TZID:America/New_York
BEGIN:DAYLIGHT
TZOFFSETFROM:-0500
TZOFFSETTO:-0400
TZNAME:EDT
DTSTART:20220313T070000
END:DAYLIGHT
BEGIN:STANDARD
TZOFFSETFROM:-0400
TZOFFSETTO:-0500
TZNAME:EST
DTSTART:20221106T060000
END:STANDARD
BEGIN:DAYLIGHT
TZOFFSETFROM:-0500
TZOFFSETTO:-0400
TZNAME:EDT
DTSTART:20230312T070000
END:DAYLIGHT
BEGIN:STANDARD
TZOFFSETFROM:-0400
TZOFFSETTO:-0500
TZNAME:EST
DTSTART:20231105T060000
END:STANDARD
BEGIN:DAYLIGHT
TZOFFSETFROM:-0500
TZOFFSETTO:-0400
TZNAME:EDT
DTSTART:20240310T070000
END:DAYLIGHT
BEGIN:STANDARD
TZOFFSETFROM:-0400
TZOFFSETTO:-0500
TZNAME:EST
DTSTART:20241103T060000
END:STANDARD
END:VTIMEZONE
BEGIN:VEVENT
DTSTART;TZID=America/New_York:20230128T120000
DTEND;TZID=America/New_York:20230128T160000
DTSTAMP:20260423T064146
CREATED:20221202T185632Z
LAST-MODIFIED:20221227T184004Z
UID:33491-1674907200-1674921600@traxfarms.com
SUMMARY:Winter Beer Festival
DESCRIPTION:Winter Beer Festival \nSaturday\, January 28th | 12:00pm – 4:00pm \nJoin us for our Winter Beer Festival to sample several breweries\, enjoy delicious food and listen to live music all afternoon! Your ticket provides you with: a souvenir sampling glass\, beer sampling\, access to the food trucks and live music. \nTickets: $20 / person \nMust be 21+ | ID will be required at the door | Children not allowed. \nNo outside food or beverages are permitted. \n\nRefunds will not be issued unless the event is cancelled.\nThis event has a limited amount of tickets that will be sold.\nADVANCED TICKETS ARE REQUIRED\nThere is not a specified ticket option for designated drivers. All guests must have a ticket to enter the festival. Please drink responsibly.\n\nA Portion of the ticket sales benefits the Finleyville Food Bank.
URL:https://traxfarms.com/event/winter-beer-festival/
LOCATION:Trax Farms\, 528 Trax Road\, Finleyville\, PA\, 15332\, United States
CATEGORIES:Festival
ATTACH;FMTTYPE=image/png:https://traxfarms.com/wp-content/uploads/2022/12/facebook-header-beer-festival-1.png
END:VEVENT
END:VCALENDAR